BEGIN:VCALENDAR
PRODID:-//eluceo/ical//2.0/EN
VERSION:2.0
CALSCALE:GREGORIAN
BEGIN:VEVENT
UID:4c0e609f7e04ff79b596dc585b6845b6
DTSTAMP:20260420T102026Z
SUMMARY:Egoföredrag Lena Baudin
DESCRIPTION:Talare: Lena Baudin
URL:https://vasteras-aurora.rotary2335.se/sv/agenda/show/217610
DTSTART;TZID=Europe/Zurich:20260305T073000
DTEND;TZID=Europe/Zurich:20260305T083000
LOCATION:Café Mosaic\, Smedjegatan 2\, 722 13 Västerås\, Sverige
CATEGORIES:Rotary
END:VEVENT
BEGIN:VTIMEZONE
TZID:Europe/Zurich
BEGIN:STANDARD
DTSTART:20260305T073000
TZNAME:CET
TZOFFSETTO:+0100
TZOFFSETFROM:+0100
END:STANDARD
END:VTIMEZONE
END:VCALENDAR
