BEGIN:VCALENDAR
PRODID:-//eluceo/ical//2.0/EN
VERSION:2.0
CALSCALE:GREGORIAN
BEGIN:VEVENT
UID:a488cc77fea9ab76b356b9ce432c44f6
DTSTAMP:20260420T101558Z
SUMMARY:Följ med på en resa genom världen
DESCRIPTION:Talare: Karin Granlund
URL:https://vasteras-aurora.rotary2335.se/sv/agenda/show/217432
DTSTART;TZID=Europe/Zurich:20260219T073000
DTEND;TZID=Europe/Zurich:20260219T083000
LOCATION:Café Mosaic\, Smedjegatan 2\, 722 13 Västerås\, Sverige
CATEGORIES:Rotary
END:VEVENT
BEGIN:VTIMEZONE
TZID:Europe/Zurich
BEGIN:STANDARD
DTSTART:20260219T073000
TZNAME:CET
TZOFFSETTO:+0100
TZOFFSETFROM:+0100
END:STANDARD
END:VTIMEZONE
END:VCALENDAR
