BEGIN:VCALENDAR
PRODID:-//eluceo/ical//2.0/EN
VERSION:2.0
CALSCALE:GREGORIAN
BEGIN:VEVENT
UID:2651b075ebdb1fbc9f68079cd867dcbe
DTSTAMP:20260420T101410Z
SUMMARY:Vernissage tisdag 24 mars
DESCRIPTION:Talare: Även ni som inte är medlemmar är välkomna.Anmäl er
  till lars-erik@lenikonsult.se och betala sedan 195 kronor per person via 
 bankgiro 5277-1557 eller swish 123 362 06 71  samt uppge #vernissage samt
  namn på dem du betalar för.
URL:https://vasteras-aurora.rotary2335.se/sv/agenda/show/217401
DTSTART;TZID=Europe/Zurich:20260324T183000
DTEND;TZID=Europe/Zurich:20260324T210000
LOCATION:Ekströms Konst och Inramningsaffär
CATEGORIES:Rotary
END:VEVENT
BEGIN:VTIMEZONE
TZID:Europe/Zurich
BEGIN:STANDARD
DTSTART:20260324T183000
TZNAME:CET
TZOFFSETTO:+0100
TZOFFSETFROM:+0100
END:STANDARD
END:VTIMEZONE
END:VCALENDAR
